BEGIN:VCALENDAR
VERSION:2.0
PRODID:-//eventon.com NONSGML v1.0//EN
CALSCALE:GREGORIAN
METHOD:PUBLISH
BEGIN:VEVENT
UID:69eb7ab65cb8e
DTSTAMP:20260424T141414Z
DTSTART:20250531T140000Z
DTEND:20250531T180000Z
LOCATION:
SUMMARY:Summer Kickoff!
DESCRIPTION:Join us for the 2025 season opener at the farmstand!  Event on
  RAIN OR SHINE!! Details:  Saturday\,  May 31\,  10am-2pm.  (The farmstan
 d will remain open until 3pm) Live music by singer/songwriter Kylie Harris 
 Food truck offerings from Amigos Locos Ice Cream Truck Outdoor fun: Farm ac
 tivities for naturalists of all[..]\nhttps://landssake.org/events/farmstand
 -opening-day/
URL:https://landssake.org/events/farmstand-opening-day/
END:VEVENT
END:VCALENDAR