BEGIN:VCALENDAR
VERSION:2.0
PRODID:-//eventon.com NONSGML v1.0//EN
CALSCALE:GREGORIAN
METHOD:PUBLISH
BEGIN:VEVENT
UID:69e7ead9e2e54
DTSTAMP:20260421T212337Z
DTSTART:20221119T160000Z
DTEND:20221119T210000Z
LOCATION:
SUMMARY:Pre-Thanksgiving Sale: Saturday
DESCRIPTION:Holiday Favorites\,  Fresh Produce\,  Local Treats and Tastings
 ! Save the date for our annual Land's sake Farm Pre-Thanksgiving Sale Satur
 day and Sunday\,  November 19th and 20th\,  between 11am and 4pm. The farms
 tand will be stocked up with a variety of delicious pies and baked goods fr
 om Concord Market\,  fresh apple[..]\nhttps://landssake.org/events/pre-than
 ksgiving-sale/
URL:https://landssake.org/events/pre-thanksgiving-sale/
END:VEVENT
END:VCALENDAR