BEGIN:VCALENDAR
VERSION:2.0
PRODID:-//eventon.com NONSGML v1.0//EN
CALSCALE:GREGORIAN
METHOD:PUBLISH
BEGIN:VEVENT
UID:69e6e96172673
DTSTAMP:20260421T030505Z
DTSTART:20250612T213000Z
DTEND:20250613T010000Z
LOCATION:
SUMMARY:Summer Solstice Dinner
DESCRIPTION:Ring in the summer with an elegant farm-to-table dinner under t
 he tent on the farm\,  in support of Land's Sake's Education Fund\,  Thursd
 ay\,  June 12\,  5:30pm - 9pm. Land's Sake Welcomes Chef Keith Sarasin This
  year\,  Chef Keith Sarasin\,  founder of the Farmer's Dinner will helm
  both Summer Solstice dinners at Land's Sake Farm.[..]\nhttps://landssake.o
 rg/events/summer-solstice-dinner/
URL:https://landssake.org/events/summer-solstice-dinner/
END:VEVENT
END:VCALENDAR