BEGIN:VCALENDAR
VERSION:2.0
PRODID:-//eventon.com NONSGML v1.0//EN
CALSCALE:GREGORIAN
METHOD:PUBLISH
BEGIN:VEVENT
UID:69eadb88f1d8a
DTSTAMP:20260424T025504Z
DTSTART:20260326T223000Z
DTEND:20260327T010000Z
LOCATION:
SUMMARY:Maple Mixer
DESCRIPTION:TICKET SALES CLOSED Maple Mixer: A cozy cocktail party at the f
 armstand Join us to support Land's Sake\,  and enjoy an intimate evening of
  bespoke cocktails\,  strolling appetizers\,  and divine desserts. March 2
 6\,  6:30-9pm $250 per person\,  includes a $150 tax-deductible donation. Y
 our ticket purchase supports forest stewardship\,  and serves as[..]\nhttps
 ://landssake.org/events/maple-mixer/
URL:https://landssake.org/events/maple-mixer/
END:VEVENT
END:VCALENDAR